BEGIN:VCALENDAR
VERSION:2.0
PRODID:-//Sabre//Sabre VObject 4.5.8//EN
CALSCALE:GREGORIAN
BEGIN:VEVENT
UID:sabre-vobject-54c56423-9824-4c90-b755-b4e7abb415bf
DTSTAMP:20260421T163757Z
SUMMARY:TASC President's Day Sale
DESCRIPTION:
X-ALT-DESC:FMTTYPE=text/html:<!DOCTYPE HTML PUBLIC "-//W3C//DTD HTML 3.2//E
 N"><HTML></HTML>
CREATED;TZID=America/New_York:20260112T103534
URL;VALUE=URI:https://gordon.armymwr.com/view-event
DTSTART;TZID=America/New_York:20260210T100000
DTEND;TZID=America/New_York:20260210T180000
SEQUENCE:0
END:VEVENT
END:VCALENDAR
