BEGIN:VCALENDAR
VERSION:2.0
PRODID:-//Sabre//Sabre VObject 4.5.8//EN
CALSCALE:GREGORIAN
BEGIN:VEVENT
UID:sabre-vobject-7bc78596-7dde-4ba2-ac97-8d3c48c8cad0
DTSTAMP:20260426T035608Z
SUMMARY:Right Arm Night
DESCRIPTION:
X-ALT-DESC:FMTTYPE=text/html:<!DOCTYPE HTML PUBLIC "-//W3C//DTD HTML 3.2//E
 N"><HTML></HTML>
CREATED;TZID=America/New_York:20251020T124339
URL;VALUE=URI:https://gordon.armymwr.com/view-event
DTSTART;TZID=America/New_York:20251113T160000
DTEND;TZID=America/New_York:20251113T180000
SEQUENCE:0
END:VEVENT
END:VCALENDAR
