BEGIN:VCALENDAR
VERSION:2.0
PRODID:-//Sabre//Sabre VObject 4.5.8//EN
CALSCALE:GREGORIAN
BEGIN:VEVENT
UID:sabre-vobject-218520a8-a4ac-4777-86a9-e6070f350d25
DTSTAMP:20260421T060449Z
SUMMARY:Easter Brunch
DESCRIPTION:
X-ALT-DESC:FMTTYPE=text/html:<!DOCTYPE HTML PUBLIC "-//W3C//DTD HTML 3.2//E
 N"><HTML></HTML>
CREATED;TZID=America/New_York:20260202T081824
URL;VALUE=URI:https://gordon.armymwr.com/view-event
DTSTART;TZID=America/New_York:20260405T130000
DTEND;TZID=America/New_York:20260405T160000
SEQUENCE:0
END:VEVENT
END:VCALENDAR
