BEGIN:VCALENDAR
VERSION:2.0
PRODID:-//Sabre//Sabre VObject 4.5.8//EN
CALSCALE:GREGORIAN
BEGIN:VEVENT
UID:sabre-vobject-06d71e68-9c69-4185-83d7-c8a739dee4c1
DTSTAMP:20260423T063902Z
SUMMARY:Booked For Lunch  
DESCRIPTION:
X-ALT-DESC:FMTTYPE=text/html:<!DOCTYPE HTML PUBLIC "-//W3C//DTD HTML 3.2//E
 N"><HTML></HTML>
CREATED;TZID=America/New_York:20251201T140805
URL;VALUE=URI:https://gordon.armymwr.com/view-event
DTSTART;TZID=America/New_York:20260908T110000
DTEND;TZID=America/New_York:20260908T123000
SEQUENCE:0
END:VEVENT
END:VCALENDAR
