BEGIN:VCALENDAR
VERSION:2.0
PRODID:-//Sabre//Sabre VObject 4.5.8//EN
CALSCALE:GREGORIAN
BEGIN:VEVENT
UID:sabre-vobject-25883f26-e336-4cce-a6af-c7046b421ce0
DTSTAMP:20260423T004840Z
SUMMARY:Manga Club   
DESCRIPTION:
X-ALT-DESC:FMTTYPE=text/html:<!DOCTYPE HTML PUBLIC "-//W3C//DTD HTML 3.2//E
 N"><HTML></HTML>
CREATED;TZID=America/New_York:20251202T075334
URL;VALUE=URI:https://gordon.armymwr.com/view-event
DTSTART;TZID=America/New_York:20260808T130000
DTEND;TZID=America/New_York:20260808T150000
SEQUENCE:0
END:VEVENT
BEGIN:VEVENT
UID:sabre-vobject-ded10d17-e43c-4482-8ef4-8d6b2e3cab01
DTSTAMP:20260423T004840Z
SUMMARY:Manga Club   
DESCRIPTION:
X-ALT-DESC:FMTTYPE=text/html:<!DOCTYPE HTML PUBLIC "-//W3C//DTD HTML 3.2//E
 N"><HTML></HTML>
CREATED;TZID=America/New_York:20251202T075334
URL;VALUE=URI:https://gordon.armymwr.com/view-event
DTSTART;TZID=America/New_York:20260822T130000
DTEND;TZID=America/New_York:20260822T150000
SEQUENCE:1
END:VEVENT
END:VCALENDAR
