BEGIN:VCALENDAR
VERSION:2.0
PRODID:-//Sabre//Sabre VObject 4.5.8//EN
CALSCALE:GREGORIAN
BEGIN:VEVENT
UID:sabre-vobject-548c0793-32a6-48fc-ae75-ef8eaeda53bb
DTSTAMP:20260421T113106Z
SUMMARY:**CANCELED** Stretch & Tone 
DESCRIPTION:
X-ALT-DESC:FMTTYPE=text/html:<!DOCTYPE HTML PUBLIC "-//W3C//DTD HTML 3.2//E
 N"><HTML></HTML>
CREATED;TZID=America/New_York:20251215T082425
URL;VALUE=URI:https://gordon.armymwr.com/view-event
DTSTART;TZID=America/New_York:20251218T173000
DTEND;TZID=America/New_York:20251218T183000
SEQUENCE:0
END:VEVENT
END:VCALENDAR
