BEGIN:VCALENDAR
VERSION:2.0
PRODID:-//Sabre//Sabre VObject 4.5.8//EN
CALSCALE:GREGORIAN
BEGIN:VEVENT
UID:sabre-vobject-52df75b1-db24-4099-8b5f-53fe30697a15
DTSTAMP:20260422T062207Z
SUMMARY:**CANCELED** Command Family Readiness Representative (CFRR) Trainin
 g
DESCRIPTION:
X-ALT-DESC:FMTTYPE=text/html:<!DOCTYPE HTML PUBLIC "-//W3C//DTD HTML 3.2//E
 N"><HTML></HTML>
CREATED;TZID=America/New_York:20260203T141516
URL;VALUE=URI:https://gordon.armymwr.com/view-event
DTSTART;TZID=America/New_York:20260205T093000
DTEND;TZID=America/New_York:20260205T113000
SEQUENCE:0
END:VEVENT
END:VCALENDAR
