BEGIN:VCALENDAR
VERSION:2.0
PRODID:-//Sabre//Sabre VObject 4.5.8//EN
CALSCALE:GREGORIAN
BEGIN:VEVENT
UID:sabre-vobject-f407b035-38da-430e-a282-b0586e276334
DTSTAMP:20260422T234932Z
SUMMARY:PCS: Plan\, Calculate\, Succeed
DESCRIPTION:
X-ALT-DESC:FMTTYPE=text/html:<!DOCTYPE HTML PUBLIC "-//W3C//DTD HTML 3.2//E
 N"><HTML></HTML>
CREATED;TZID=America/New_York:20260309T081216
URL;VALUE=URI:https://gordon.armymwr.com/view-event
DTSTART;TZID=America/New_York:20260423T093000
DTEND;TZID=America/New_York:20260423T110000
SEQUENCE:0
END:VEVENT
END:VCALENDAR
