BEGIN:VCALENDAR
VERSION:2.0
PRODID:-//Sabre//Sabre VObject 4.5.8//EN
CALSCALE:GREGORIAN
BEGIN:VEVENT
UID:sabre-vobject-632a4e15-8dc2-4a79-b052-04d06b7d5dc9
DTSTAMP:20260423T151515Z
SUMMARY:Financial Capability Month Partnership Symposium
DESCRIPTION:
X-ALT-DESC:FMTTYPE=text/html:<!DOCTYPE HTML PUBLIC "-//W3C//DTD HTML 3.2//E
 N"><HTML></HTML>
CREATED;TZID=America/New_York:20260330T073458
URL;VALUE=URI:https://gordon.armymwr.com/view-event
DTSTART;TZID=America/New_York:20260430T080000
DTEND;TZID=America/New_York:20260430T150000
SEQUENCE:0
END:VEVENT
END:VCALENDAR
