BEGIN:VCALENDAR
VERSION:2.0
PRODID:-//Sabre//Sabre VObject 4.5.8//EN
CALSCALE:GREGORIAN
BEGIN:VEVENT
UID:sabre-vobject-e1189004-b4c5-433d-883a-aaa5dc74d5dc
DTSTAMP:20260425T035557Z
SUMMARY:**CANCELED** Play Mornings
DESCRIPTION:
X-ALT-DESC:FMTTYPE=text/html:<!DOCTYPE HTML PUBLIC "-//W3C//DTD HTML 3.2//E
 N"><HTML></HTML>
CREATED;TZID=America/New_York:20260303T144032
URL;VALUE=URI:https://gordon.armymwr.com/view-event
DTSTART;TZID=America/New_York:20260318T100000
DTEND;TZID=America/New_York:20260318T110000
SEQUENCE:0
END:VEVENT
END:VCALENDAR
