BEGIN:VCALENDAR
VERSION:2.0
PRODID:-//Sabre//Sabre VObject 4.5.8//EN
CALSCALE:GREGORIAN
BEGIN:VEVENT
UID:sabre-vobject-f3c848c2-d4e3-41fc-92e8-3297090ce2e8
DTSTAMP:20260422T070141Z
SUMMARY:American Trivia
DESCRIPTION:
X-ALT-DESC:FMTTYPE=text/html:<!DOCTYPE HTML PUBLIC "-//W3C//DTD HTML 3.2//E
 N"><HTML></HTML>
CREATED;TZID=America/New_York:20260415T102342
URL;VALUE=URI:https://gordon.armymwr.com/view-event
DTSTART;TZID=America/New_York:20260710T170000
DTEND;TZID=America/New_York:20260710T190000
SEQUENCE:0
END:VEVENT
END:VCALENDAR
