BEGIN:VCALENDAR
VERSION:2.0
PRODID:-//Sabre//Sabre VObject 4.5.8//EN
CALSCALE:GREGORIAN
BEGIN:VEVENT
UID:sabre-vobject-58ba8f78-78e1-4db6-9a9b-2a6eb0815133
DTSTAMP:20260422T212633Z
SUMMARY:Eisenhower Lakes Club Championship 
DESCRIPTION:
X-ALT-DESC:FMTTYPE=text/html:<!DOCTYPE HTML PUBLIC "-//W3C//DTD HTML 3.2//E
 N"><HTML></HTML>
CREATED;TZID=America/New_York:20260417T080534
URL;VALUE=URI:https://gordon.armymwr.com/view-event
DTSTART;TZID=America/New_York:20260823T080000
DTEND;TZID=America/New_York:20260823T090000
SEQUENCE:0
END:VEVENT
END:VCALENDAR
