BEGIN:VCALENDAR
VERSION:2.0
PRODID:-//Sabre//Sabre VObject 4.5.8//EN
CALSCALE:GREGORIAN
BEGIN:VEVENT
UID:sabre-vobject-e2b302a8-c332-44d6-9e82-40aa6680d0db
DTSTAMP:20260422T114726Z
SUMMARY:Star and Stripes Shamble
DESCRIPTION:
X-ALT-DESC:FMTTYPE=text/html:<!DOCTYPE HTML PUBLIC "-//W3C//DTD HTML 3.2//E
 N"><HTML></HTML>
CREATED;TZID=America/New_York:20260417T082639
URL;VALUE=URI:https://gordon.armymwr.com/view-event
DTSTART;TZID=America/New_York:20260718T080000
DTEND;TZID=America/New_York:20260718T090000
SEQUENCE:0
END:VEVENT
END:VCALENDAR
