BEGIN:VCALENDAR
VERSION:2.0
PRODID:-//Sabre//Sabre VObject 4.5.8//EN
CALSCALE:GREGORIAN
BEGIN:VEVENT
UID:sabre-vobject-f63e801d-e789-4bf5-a7b4-b62ab5b2675b
DTSTAMP:20260423T100422Z
SUMMARY:CYS Job Fair 
DESCRIPTION:Virtual &amp\; In Person Interviews!\n
X-ALT-DESC:FMTTYPE=text/html:<!DOCTYPE HTML PUBLIC "-//W3C//DTD HTML 3.2//E
 N"><HTML><p>Virtual &amp\; In Person Interviews!</p>\n</HTML>
CREATED;TZID=America/New_York:20210923T110452
URL;VALUE=URI:https://gordon.armymwr.com/view-event
DTSTART;TZID=America/New_York:20211020T130000
DTEND;TZID=America/New_York:20211020T180000
SEQUENCE:0
END:VEVENT
END:VCALENDAR
