BEGIN:VCALENDAR
VERSION:2.0
PRODID:-//Sabre//Sabre VObject 4.5.8//EN
CALSCALE:GREGORIAN
BEGIN:VEVENT
UID:sabre-vobject-fba69899-d317-4fdd-a695-4ccd5f6cb3e1
DTSTAMP:20260422T023105Z
SUMMARY:De-Stress Planner Workshop
DESCRIPTION:
X-ALT-DESC:FMTTYPE=text/html:<!DOCTYPE HTML PUBLIC "-//W3C//DTD HTML 3.2//E
 N"><HTML></HTML>
CREATED;TZID=America/New_York:20231204T090706
URL;VALUE=URI:https://gordon.armymwr.com/view-event
DTSTART;TZID=America/New_York:20231207T170000
DTEND;TZID=America/New_York:20231207T183000
SEQUENCE:0
END:VEVENT
BEGIN:VEVENT
UID:sabre-vobject-fb41159d-3a1a-4a12-b517-0f8121ea259a
DTSTAMP:20260422T023105Z
SUMMARY:De-Stress Planner Workshop
DESCRIPTION:
X-ALT-DESC:FMTTYPE=text/html:<!DOCTYPE HTML PUBLIC "-//W3C//DTD HTML 3.2//E
 N"><HTML></HTML>
CREATED;TZID=America/New_York:20231204T090706
URL;VALUE=URI:https://gordon.armymwr.com/view-event
DTSTART;TZID=America/New_York:20231214T170000
DTEND;TZID=America/New_York:20231214T183000
SEQUENCE:1
END:VEVENT
BEGIN:VEVENT
UID:sabre-vobject-5810e0be-e4d3-42bc-bab2-b25b9f3ed41f
DTSTAMP:20260422T023105Z
SUMMARY:De-Stress Planner Workshop
DESCRIPTION:
X-ALT-DESC:FMTTYPE=text/html:<!DOCTYPE HTML PUBLIC "-//W3C//DTD HTML 3.2//E
 N"><HTML></HTML>
CREATED;TZID=America/New_York:20231204T090706
URL;VALUE=URI:https://gordon.armymwr.com/view-event
DTSTART;TZID=America/New_York:20231221T170000
DTEND;TZID=America/New_York:20231221T183000
SEQUENCE:2
END:VEVENT
BEGIN:VEVENT
UID:sabre-vobject-2e270ed7-fd51-474f-9743-f5389e2ccd35
DTSTAMP:20260422T023105Z
SUMMARY:De-Stress Planner Workshop
DESCRIPTION:
X-ALT-DESC:FMTTYPE=text/html:<!DOCTYPE HTML PUBLIC "-//W3C//DTD HTML 3.2//E
 N"><HTML></HTML>
CREATED;TZID=America/New_York:20231204T090706
URL;VALUE=URI:https://gordon.armymwr.com/view-event
DTSTART;TZID=America/New_York:20240104T170000
DTEND;TZID=America/New_York:20240104T183000
SEQUENCE:3
END:VEVENT
END:VCALENDAR
