BEGIN:VCALENDAR
VERSION:2.0
PRODID:-//Sabre//Sabre VObject 4.5.8//EN
CALSCALE:GREGORIAN
BEGIN:VEVENT
UID:sabre-vobject-8b232fa8-f991-4d13-a9dd-1744da230182
DTSTAMP:20260422T040026Z
SUMMARY:Parents Night Out
DESCRIPTION:
X-ALT-DESC:FMTTYPE=text/html:<!DOCTYPE HTML PUBLIC "-//W3C//DTD HTML 3.2//E
 N"><HTML></HTML>
CREATED;TZID=America/New_York:20241021T070747
URL;VALUE=URI:https://gordon.armymwr.com/view-event
DTSTART;TZID=America/New_York:20240913T183000
DTEND;TZID=America/New_York:20240913T223000
SEQUENCE:0
END:VEVENT
BEGIN:VEVENT
UID:sabre-vobject-a39442eb-b376-4b0b-924b-23693fa58852
DTSTAMP:20260422T040026Z
SUMMARY:Parents Night Out
DESCRIPTION:
X-ALT-DESC:FMTTYPE=text/html:<!DOCTYPE HTML PUBLIC "-//W3C//DTD HTML 3.2//E
 N"><HTML></HTML>
CREATED;TZID=America/New_York:20241021T070747
URL;VALUE=URI:https://gordon.armymwr.com/view-event
DTSTART;TZID=America/New_York:20241018T183000
DTEND;TZID=America/New_York:20241018T223000
SEQUENCE:1
END:VEVENT
BEGIN:VEVENT
UID:sabre-vobject-bbf6f8fe-7af9-49d8-875c-fca0ba1a5fc7
DTSTAMP:20260422T040026Z
SUMMARY:Parents Night Out
DESCRIPTION:
X-ALT-DESC:FMTTYPE=text/html:<!DOCTYPE HTML PUBLIC "-//W3C//DTD HTML 3.2//E
 N"><HTML></HTML>
CREATED;TZID=America/New_York:20241021T070747
URL;VALUE=URI:https://gordon.armymwr.com/view-event
DTSTART;TZID=America/New_York:20241115T183000
DTEND;TZID=America/New_York:20241115T223000
SEQUENCE:2
END:VEVENT
BEGIN:VEVENT
UID:sabre-vobject-cbefc011-fda0-4123-b483-cb45cd7f20dd
DTSTAMP:20260422T040026Z
SUMMARY:Parents Night Out
DESCRIPTION:
X-ALT-DESC:FMTTYPE=text/html:<!DOCTYPE HTML PUBLIC "-//W3C//DTD HTML 3.2//E
 N"><HTML></HTML>
CREATED;TZID=America/New_York:20241021T070747
URL;VALUE=URI:https://gordon.armymwr.com/view-event
DTSTART;TZID=America/New_York:20241213T183000
DTEND;TZID=America/New_York:20241213T223000
SEQUENCE:3
END:VEVENT
BEGIN:VEVENT
UID:sabre-vobject-ec10c5ca-3dbd-4872-8584-959edaaf91ab
DTSTAMP:20260422T040026Z
SUMMARY:Parents Night Out
DESCRIPTION:
X-ALT-DESC:FMTTYPE=text/html:<!DOCTYPE HTML PUBLIC "-//W3C//DTD HTML 3.2//E
 N"><HTML></HTML>
CREATED;TZID=America/New_York:20241021T070747
URL;VALUE=URI:https://gordon.armymwr.com/view-event
DTSTART;TZID=America/New_York:20250124T183000
DTEND;TZID=America/New_York:20250124T223000
SEQUENCE:4
END:VEVENT
BEGIN:VEVENT
UID:sabre-vobject-ee3fbb73-d3fc-4e85-8326-c0fe0fa33bed
DTSTAMP:20260422T040026Z
SUMMARY:Parents Night Out
DESCRIPTION:
X-ALT-DESC:FMTTYPE=text/html:<!DOCTYPE HTML PUBLIC "-//W3C//DTD HTML 3.2//E
 N"><HTML></HTML>
CREATED;TZID=America/New_York:20241021T070747
URL;VALUE=URI:https://gordon.armymwr.com/view-event
DTSTART;TZID=America/New_York:20250221T183000
DTEND;TZID=America/New_York:20250221T223000
SEQUENCE:5
END:VEVENT
BEGIN:VEVENT
UID:sabre-vobject-73864818-a520-4f4f-aa22-0bc6c9a79573
DTSTAMP:20260422T040026Z
SUMMARY:Parents Night Out
DESCRIPTION:
X-ALT-DESC:FMTTYPE=text/html:<!DOCTYPE HTML PUBLIC "-//W3C//DTD HTML 3.2//E
 N"><HTML></HTML>
CREATED;TZID=America/New_York:20241021T070747
URL;VALUE=URI:https://gordon.armymwr.com/view-event
DTSTART;TZID=America/New_York:20250314T183000
DTEND;TZID=America/New_York:20250314T223000
SEQUENCE:6
END:VEVENT
BEGIN:VEVENT
UID:sabre-vobject-6de9836c-a89e-4301-97f3-7f8c02a283e3
DTSTAMP:20260422T040026Z
SUMMARY:Parents Night Out
DESCRIPTION:
X-ALT-DESC:FMTTYPE=text/html:<!DOCTYPE HTML PUBLIC "-//W3C//DTD HTML 3.2//E
 N"><HTML></HTML>
CREATED;TZID=America/New_York:20241021T070747
URL;VALUE=URI:https://gordon.armymwr.com/view-event
DTSTART;TZID=America/New_York:20250509T183000
DTEND;TZID=America/New_York:20250509T223000
SEQUENCE:7
END:VEVENT
BEGIN:VEVENT
UID:sabre-vobject-70314160-68d7-4cc9-8710-5a98c8daefd4
DTSTAMP:20260422T040026Z
SUMMARY:Parents Night Out
DESCRIPTION:
X-ALT-DESC:FMTTYPE=text/html:<!DOCTYPE HTML PUBLIC "-//W3C//DTD HTML 3.2//E
 N"><HTML></HTML>
CREATED;TZID=America/New_York:20241021T070747
URL;VALUE=URI:https://gordon.armymwr.com/view-event
DTSTART;TZID=America/New_York:20250613T183000
DTEND;TZID=America/New_York:20250613T223000
SEQUENCE:8
END:VEVENT
BEGIN:VEVENT
UID:sabre-vobject-9a40a69d-bce0-4c70-ba98-b7632c4f5852
DTSTAMP:20260422T040026Z
SUMMARY:Parents Night Out
DESCRIPTION:
X-ALT-DESC:FMTTYPE=text/html:<!DOCTYPE HTML PUBLIC "-//W3C//DTD HTML 3.2//E
 N"><HTML></HTML>
CREATED;TZID=America/New_York:20241021T070747
URL;VALUE=URI:https://gordon.armymwr.com/view-event
DTSTART;TZID=America/New_York:20250725T183000
DTEND;TZID=America/New_York:20250725T223000
SEQUENCE:9
END:VEVENT
END:VCALENDAR
