BEGIN:VCALENDAR
VERSION:2.0
PRODID:-//Sabre//Sabre VObject 4.5.8//EN
CALSCALE:GREGORIAN
BEGIN:VEVENT
UID:sabre-vobject-7faf60da-c4d7-415d-876d-3032f333b8c2
DTSTAMP:20260421T160918Z
SUMMARY:The Tony Howard Show - DJ & Karaoke
DESCRIPTION:
X-ALT-DESC:FMTTYPE=text/html:<!DOCTYPE HTML PUBLIC "-//W3C//DTD HTML 3.2//E
 N"><HTML></HTML>
CREATED;TZID=America/New_York:20241212T105930
URL;VALUE=URI:https://gordon.armymwr.com/view-event
DTSTART;TZID=America/New_York:20241130T150000
DTEND;TZID=America/New_York:20241130T180000
SEQUENCE:0
END:VEVENT
BEGIN:VEVENT
UID:sabre-vobject-fbdf39f9-29f7-4f23-81d2-f5cca4a1c116
DTSTAMP:20260421T160918Z
SUMMARY:The Tony Howard Show - DJ & Karaoke
DESCRIPTION:
X-ALT-DESC:FMTTYPE=text/html:<!DOCTYPE HTML PUBLIC "-//W3C//DTD HTML 3.2//E
 N"><HTML></HTML>
CREATED;TZID=America/New_York:20241212T105930
URL;VALUE=URI:https://gordon.armymwr.com/view-event
DTSTART;TZID=America/New_York:20241214T160000
DTEND;TZID=America/New_York:20241214T190000
SEQUENCE:1
END:VEVENT
BEGIN:VEVENT
UID:sabre-vobject-ee36728d-74fc-4fab-a969-f7c24ffdd6bc
DTSTAMP:20260421T160918Z
SUMMARY:The Tony Howard Show - DJ & Karaoke
DESCRIPTION:
X-ALT-DESC:FMTTYPE=text/html:<!DOCTYPE HTML PUBLIC "-//W3C//DTD HTML 3.2//E
 N"><HTML></HTML>
CREATED;TZID=America/New_York:20241212T105930
URL;VALUE=URI:https://gordon.armymwr.com/view-event
DTSTART;TZID=America/New_York:20250118T160000
DTEND;TZID=America/New_York:20250118T190000
SEQUENCE:2
END:VEVENT
BEGIN:VEVENT
UID:sabre-vobject-5d45f62c-ecd7-4afc-8a0f-0b92739a6e0f
DTSTAMP:20260421T160918Z
SUMMARY:The Tony Howard Show - DJ & Karaoke
DESCRIPTION:
X-ALT-DESC:FMTTYPE=text/html:<!DOCTYPE HTML PUBLIC "-//W3C//DTD HTML 3.2//E
 N"><HTML></HTML>
CREATED;TZID=America/New_York:20241212T105930
URL;VALUE=URI:https://gordon.armymwr.com/view-event
DTSTART;TZID=America/New_York:20250201T150000
DTEND;TZID=America/New_York:20250201T180000
SEQUENCE:3
END:VEVENT
BEGIN:VEVENT
UID:sabre-vobject-e3a1fe32-537b-47ef-88da-3d7a5e76f0cf
DTSTAMP:20260421T160918Z
SUMMARY:The Tony Howard Show - DJ & Karaoke
DESCRIPTION:
X-ALT-DESC:FMTTYPE=text/html:<!DOCTYPE HTML PUBLIC "-//W3C//DTD HTML 3.2//E
 N"><HTML></HTML>
CREATED;TZID=America/New_York:20241212T105930
URL;VALUE=URI:https://gordon.armymwr.com/view-event
DTSTART;TZID=America/New_York:20250215T160000
DTEND;TZID=America/New_York:20250215T190000
SEQUENCE:4
END:VEVENT
BEGIN:VEVENT
UID:sabre-vobject-f77ac763-eeb9-45a6-9335-1ed4db822121
DTSTAMP:20260421T160918Z
SUMMARY:The Tony Howard Show - DJ & Karaoke
DESCRIPTION:
X-ALT-DESC:FMTTYPE=text/html:<!DOCTYPE HTML PUBLIC "-//W3C//DTD HTML 3.2//E
 N"><HTML></HTML>
CREATED;TZID=America/New_York:20241212T105930
URL;VALUE=URI:https://gordon.armymwr.com/view-event
DTSTART;TZID=America/New_York:20250301T150000
DTEND;TZID=America/New_York:20250301T180000
SEQUENCE:5
END:VEVENT
BEGIN:VEVENT
UID:sabre-vobject-ba3a576d-6d98-48fe-8e76-14eb112a9e4e
DTSTAMP:20260421T160918Z
SUMMARY:The Tony Howard Show - DJ & Karaoke
DESCRIPTION:
X-ALT-DESC:FMTTYPE=text/html:<!DOCTYPE HTML PUBLIC "-//W3C//DTD HTML 3.2//E
 N"><HTML></HTML>
CREATED;TZID=America/New_York:20241212T105930
URL;VALUE=URI:https://gordon.armymwr.com/view-event
DTSTART;TZID=America/New_York:20250315T160000
DTEND;TZID=America/New_York:20250315T190000
SEQUENCE:6
END:VEVENT
END:VCALENDAR
