BEGIN:VCALENDAR
VERSION:2.0
PRODID:-//Sabre//Sabre VObject 4.5.8//EN
CALSCALE:GREGORIAN
BEGIN:VEVENT
UID:sabre-vobject-0de99f29-f810-4712-b0c0-194812b0c8a6
DTSTAMP:20260420T063211Z
SUMMARY:NRA Basics of Pistol Firearm Instructional Class
DESCRIPTION:
X-ALT-DESC:FMTTYPE=text/html:<!DOCTYPE HTML PUBLIC "-//W3C//DTD HTML 3.2//E
 N"><HTML></HTML>
CREATED;TZID=America/New_York:20241216T140245
URL;VALUE=URI:https://gordon.armymwr.com/view-event
DTSTART;TZID=America/New_York:20250112T080000
DTEND;TZID=America/New_York:20250112T170000
SEQUENCE:0
END:VEVENT
BEGIN:VEVENT
UID:sabre-vobject-eba6a0cf-4d8d-4b41-853f-47d9866aeccc
DTSTAMP:20260420T063211Z
SUMMARY:NRA Basics of Pistol Firearm Instructional Class
DESCRIPTION:
X-ALT-DESC:FMTTYPE=text/html:<!DOCTYPE HTML PUBLIC "-//W3C//DTD HTML 3.2//E
 N"><HTML></HTML>
CREATED;TZID=America/New_York:20241216T140245
URL;VALUE=URI:https://gordon.armymwr.com/view-event
DTSTART;TZID=America/New_York:20250209T080000
DTEND;TZID=America/New_York:20250209T170000
SEQUENCE:1
END:VEVENT
BEGIN:VEVENT
UID:sabre-vobject-74f741de-a419-491a-ab3d-cf2d415ada3b
DTSTAMP:20260420T063211Z
SUMMARY:NRA Basics of Pistol Firearm Instructional Class
DESCRIPTION:
X-ALT-DESC:FMTTYPE=text/html:<!DOCTYPE HTML PUBLIC "-//W3C//DTD HTML 3.2//E
 N"><HTML></HTML>
CREATED;TZID=America/New_York:20241216T140245
URL;VALUE=URI:https://gordon.armymwr.com/view-event
DTSTART;TZID=America/New_York:20250427T080000
DTEND;TZID=America/New_York:20250427T170000
SEQUENCE:2
END:VEVENT
BEGIN:VEVENT
UID:sabre-vobject-86932e79-ad43-45c1-8f09-129a26b51f45
DTSTAMP:20260420T063211Z
SUMMARY:NRA Basics of Pistol Firearm Instructional Class
DESCRIPTION:
X-ALT-DESC:FMTTYPE=text/html:<!DOCTYPE HTML PUBLIC "-//W3C//DTD HTML 3.2//E
 N"><HTML></HTML>
CREATED;TZID=America/New_York:20241216T140245
URL;VALUE=URI:https://gordon.armymwr.com/view-event
DTSTART;TZID=America/New_York:20250518T080000
DTEND;TZID=America/New_York:20250518T170000
SEQUENCE:3
END:VEVENT
BEGIN:VEVENT
UID:sabre-vobject-e0364579-323b-44fe-8b05-08cee06a39a4
DTSTAMP:20260420T063211Z
SUMMARY:NRA Basics of Pistol Firearm Instructional Class
DESCRIPTION:
X-ALT-DESC:FMTTYPE=text/html:<!DOCTYPE HTML PUBLIC "-//W3C//DTD HTML 3.2//E
 N"><HTML></HTML>
CREATED;TZID=America/New_York:20241216T140245
URL;VALUE=URI:https://gordon.armymwr.com/view-event
DTSTART;TZID=America/New_York:20250720T080000
DTEND;TZID=America/New_York:20250720T170000
SEQUENCE:4
END:VEVENT
BEGIN:VEVENT
UID:sabre-vobject-72fc4ca3-fdc5-46dc-a5f1-2a64df4bffbb
DTSTAMP:20260420T063211Z
SUMMARY:NRA Basics of Pistol Firearm Instructional Class
DESCRIPTION:
X-ALT-DESC:FMTTYPE=text/html:<!DOCTYPE HTML PUBLIC "-//W3C//DTD HTML 3.2//E
 N"><HTML></HTML>
CREATED;TZID=America/New_York:20241216T140245
URL;VALUE=URI:https://gordon.armymwr.com/view-event
DTSTART;TZID=America/New_York:20250817T080000
DTEND;TZID=America/New_York:20250817T170000
SEQUENCE:5
END:VEVENT
BEGIN:VEVENT
UID:sabre-vobject-1da4c5f2-3ca2-4d52-8525-755519ec06fc
DTSTAMP:20260420T063211Z
SUMMARY:NRA Basics of Pistol Firearm Instructional Class
DESCRIPTION:
X-ALT-DESC:FMTTYPE=text/html:<!DOCTYPE HTML PUBLIC "-//W3C//DTD HTML 3.2//E
 N"><HTML></HTML>
CREATED;TZID=America/New_York:20241216T140245
URL;VALUE=URI:https://gordon.armymwr.com/view-event
DTSTART;TZID=America/New_York:20251019T080000
DTEND;TZID=America/New_York:20251019T170000
SEQUENCE:6
END:VEVENT
BEGIN:VEVENT
UID:sabre-vobject-09b04104-82fa-408c-a3a5-fc1fab317b41
DTSTAMP:20260420T063211Z
SUMMARY:NRA Basics of Pistol Firearm Instructional Class
DESCRIPTION:
X-ALT-DESC:FMTTYPE=text/html:<!DOCTYPE HTML PUBLIC "-//W3C//DTD HTML 3.2//E
 N"><HTML></HTML>
CREATED;TZID=America/New_York:20241216T140245
URL;VALUE=URI:https://gordon.armymwr.com/view-event
DTSTART;TZID=America/New_York:20251116T080000
DTEND;TZID=America/New_York:20251116T170000
SEQUENCE:7
END:VEVENT
END:VCALENDAR
