BEGIN:VCALENDAR
VERSION:2.0
PRODID:-//Sabre//Sabre VObject 4.5.8//EN
CALSCALE:GREGORIAN
BEGIN:VEVENT
UID:sabre-vobject-593c2d14-de95-40ba-b8aa-dc7f779f0475
DTSTAMP:20260419T162904Z
SUMMARY:Readers Circle
DESCRIPTION:
X-ALT-DESC:FMTTYPE=text/html:<!DOCTYPE HTML PUBLIC "-//W3C//DTD HTML 3.2//E
 N"><HTML></HTML>
CREATED;TZID=America/New_York:20250106T090613
URL;VALUE=URI:https://gordon.armymwr.com/view-event
DTSTART;TZID=America/New_York:20250114T110000
DTEND;TZID=America/New_York:20250114T123000
SEQUENCE:0
END:VEVENT
END:VCALENDAR
